BEGIN:VCALENDAR
VERSION:2.0
PRODID:-//RESOBOX - ECPv6.15.20//NONSGML v1.0//EN
CALSCALE:GREGORIAN
METHOD:PUBLISH
X-WR-CALNAME:RESOBOX
X-ORIGINAL-URL:https://resobox.com
X-WR-CALDESC:Events for RESOBOX
REFRESH-INTERVAL;VALUE=DURATION:PT1H
X-Robots-Tag:noindex
X-PUBLISHED-TTL:PT1H
BEGIN:VTIMEZONE
TZID:UTC
BEGIN:STANDARD
TZOFFSETFROM:+0000
TZOFFSETTO:+0000
TZNAME:UTC
DTSTART:20250101T000000
END:STANDARD
END:VTIMEZONE
BEGIN:VEVENT
DTSTART;TZID=UTC:20260426T110000
DTEND;TZID=UTC:20260426T130000
DTSTAMP:20260424T151140
CREATED:20260401T175112Z
LAST-MODIFIED:20260406T061634Z
UID:5099-1777201200-1777208400@resobox.com
SUMMARY:Bonsai
DESCRIPTION:Participants will develop and take home a sub-tropical bonsai\, perfect for indoor apartment growing! With the master’s guidance and supervision\, students will learn how to prune\, shape\, maintain\, and repot their bonsai. Bonsai tools will be available for use during the class. \n\n\n\n\nPLEASE NOTE: The class sign up deadline is 72 hours before the class begins. Cancellation after this period will NOT be refunded. \n\n\n$185 / person \nAll materials included \n\nReserve Your Spot \n\n  \n\nLearn more about Bonsai class at RESOBOX \nView class page → \n 
URL:https://resobox.com/event/bonsai/
LOCATION:NY
CATEGORIES:Bonsai
ATTACH;FMTTYPE=image/webp:https://resobox.com/wp-content/uploads/2026/03/Art-of-Bonsai-R.jpg.webp
END:VEVENT
END:VCALENDAR