BEGIN:VCALENDAR
VERSION:2.0
PRODID:-//RESOBOX - ECPv6.15.20//NONSGML v1.0//EN
CALSCALE:GREGORIAN
METHOD:PUBLISH
X-ORIGINAL-URL:https://resobox.com
X-WR-CALDESC:Events for RESOBOX
REFRESH-INTERVAL;VALUE=DURATION:PT1H
X-Robots-Tag:noindex
X-PUBLISHED-TTL:PT1H
BEGIN:VTIMEZONE
TZID:UTC
BEGIN:STANDARD
TZOFFSETFROM:+0000
TZOFFSETTO:+0000
TZNAME:UTC
DTSTART:20250101T000000
END:STANDARD
END:VTIMEZONE
BEGIN:VEVENT
DTSTART;TZID=UTC:20260502T110000
DTEND;TZID=UTC:20260502T123000
DTSTAMP:20260424T151308
CREATED:20260406T064444Z
LAST-MODIFIED:20260420T072221Z
UID:6266-1777719600-1777725000@resobox.com
SUMMARY:Kimekomi: Japanese Traditional Doll-Making - Frog\, Owl\, Daruma\, Jizo\, and Temari
DESCRIPTION:For the May 2nd class\, students can choose between the Frog\, Owl\, Daruma\, Jizo\, and Temari designs.  \nNo experience is necessary\nTake home your finished artwork \nThis workshop is open to everyone. Come relax\, enjoy a creative moment\, and bring a little piece of Japanese art into your home. \nSpace is limited\, so early registration is recommended. \nPLEASE NOTE: The class sign up deadline is 72 hours before the class begins. Cancellation after this period will NOT be refunded. \n\n\n$50-60 / person \nAll materials included \n\nReserve Your Spot \n\n  \n\nLearn more about Kimekomi Doll-Making class at RESOBOX \nView class page \n 
URL:https://resobox.com/event/kimekomi-doll-making-frog-owl-jizo-daruma/
LOCATION:RESOBOX\, 91 E 3rd Street\, New York\, NY\, 10003\, United States
CATEGORIES:Kimekomi
ATTACH;FMTTYPE=image/jpeg:https://resobox.com/wp-content/uploads/2026/04/Basics-1.jpg
END:VEVENT
END:VCALENDAR