BEGIN:VCALENDAR
VERSION:2.0
PRODID:-//RESOBOX - ECPv6.15.20//NONSGML v1.0//EN
CALSCALE:GREGORIAN
METHOD:PUBLISH
X-ORIGINAL-URL:https://resobox.com
X-WR-CALDESC:Events for RESOBOX
REFRESH-INTERVAL;VALUE=DURATION:PT1H
X-Robots-Tag:noindex
X-PUBLISHED-TTL:PT1H
BEGIN:VTIMEZONE
TZID:UTC
BEGIN:STANDARD
TZOFFSETFROM:+0000
TZOFFSETTO:+0000
TZNAME:UTC
DTSTART:20250101T000000
END:STANDARD
END:VTIMEZONE
BEGIN:VEVENT
DTSTART;TZID=UTC:20260620T120000
DTEND;TZID=UTC:20260620T130000
DTSTAMP:20260424T172338
CREATED:20260409T134254Z
LAST-MODIFIED:20260418T162634Z
UID:6330-1781956800-1781960400@resobox.com
SUMMARY:Suminagashi: Japanese Marbling Art
DESCRIPTION:In this Suminagashi class\, you will learn how to gently drop ink onto the surface of water and guide the ripples with your breath\, brushes\, or even the subtlest movements of air. The resulting designs are then transferred onto washi paper and even onto fabric items such as handkerchiefs\, creating one-of-a-kind works of art. \nPLEASE NOTE: The class sign up deadline is 72 hours before the class begins. Cancellation after this period will NOT be refunded. \n\n\n$50 / person \nAll materials included \n\nReserve Your Spot \n\n  \n\nLearn more about Suminagashi class at RESOBOX \nView class page → \n 
URL:https://resobox.com/event/suminagashi-2026-0620/
LOCATION:RESOBOX\, 91 E 3rd Street\, New York\, NY\, 10003\, United States
CATEGORIES:Suminagashi
ATTACH;FMTTYPE=image/jpeg:https://resobox.com/wp-content/uploads/2026/04/IMG_6298-copy.jpeg
END:VEVENT
BEGIN:VEVENT
DTSTART;TZID=UTC:20260620T133000
DTEND;TZID=UTC:20260620T143000
DTSTAMP:20260424T172338
CREATED:20260420T080130Z
LAST-MODIFIED:20260420T080130Z
UID:29570-1781962200-1781965800@resobox.com
SUMMARY:Sumi-E: Japanese Ink Painting - Goldfish
DESCRIPTION:Sumi-e\, also called Suibokuga\, is the art of ink wash-painting. Characteristically\, it is an East Asian art\, and has been practiced there for well over a thousand years. Sumi-e depicts the spirit or essence of an object or scene rather than its outward appearance — and does so in the fewest possible strokes. Because of this simplicity\, the painter’s character and personality come through in his/her work. In both viewing and creating\, Sumi-e is a very contemplative form of painting. \nIn this class at RESOBOX\, a Japanese cultural center in New York\, all students will start from the basics of ink-wash painting\, such as how to hold a brush. All materials such as ink\, brushes\, calligraphy paper\, etc. will be provided for the students. \nPLEASE NOTE: The sign-up deadline is 72 hours before the class begins. Cancellations after this period will NOT be refunded. \n\n\n$40 / person \nAll materials included \n\nReserve Your Spot \n\n  \n\nLearn more about Sumi-E class at RESOBOX \nView class page → \n 
URL:https://resobox.com/event/sumi-e-japanese-ink-painting-goldfish-3/
LOCATION:RESOBOX\, 91 E 3rd Street\, New York\, NY\, 10003\, United States
CATEGORIES:Sumi-E
ATTACH;FMTTYPE=image/jpeg:https://resobox.com/wp-content/uploads/2026/04/Goldfish.jpeg
END:VEVENT
END:VCALENDAR