BEGIN:VCALENDAR
VERSION:2.0
PRODID:-//RESOBOX - ECPv6.15.20//NONSGML v1.0//EN
CALSCALE:GREGORIAN
METHOD:PUBLISH
X-ORIGINAL-URL:https://resobox.com
X-WR-CALDESC:Events for RESOBOX
REFRESH-INTERVAL;VALUE=DURATION:PT1H
X-Robots-Tag:noindex
X-PUBLISHED-TTL:PT1H
BEGIN:VTIMEZONE
TZID:UTC
BEGIN:STANDARD
TZOFFSETFROM:+0000
TZOFFSETTO:+0000
TZNAME:UTC
DTSTART:20250101T000000
END:STANDARD
END:VTIMEZONE
BEGIN:VEVENT
DTSTART;TZID=UTC:20260503T120000
DTEND;TZID=UTC:20260503T130000
DTSTAMP:20260424T172559
CREATED:20260406T065046Z
LAST-MODIFIED:20260418T155855Z
UID:29202-1777809600-1777813200@resobox.com
SUMMARY:Virtual Ikebana class - Misho Style
DESCRIPTION:A few things you will need before the class: \n1. You will need to find your own flowers. We are sorry that we are unable to deliver flowers to your home (try calling around; some local shops will deliver). But any flowers are OK! Just make sure to get 2-3 varieties\, and choose what you like. We don’t need a lot. \n2. You will need clippers or scissors that you don’t mind using to cut flower stems. \n3. A vase. If you don’t have a vase\, you can use a glass\, a coffee cup\, a cereal bowl\, or your choice of container\, as long as it has a little depth. You might even surprise yourself with how nice a non-traditional vase can look with a cute arrangement of flowers. \n*If you have your own Kenzan\, Flower Pin\, or Pin Frog\, you can use it. And if you want to buy one\, you can order on Amazon online. \nIn this class\, we will check each student’s tools and flowers\, then help you with tips on how to build up and create your own Ikebana arrangement. \n**Classes will be held via the Zoom Video Conferencing application\, a private Zoom link will be sent to participants before the class begins. The classes will be held in Eastern Time. \n  \nPLEASE NOTE: The class sign up deadline is 72 hours before the class begins. Cancellation after this period will NOT be refunded. \n\n\n$30 / person \nAll materials included \n\nReserve Your Spot \n\n  \n\nLearn more about Virtual Ikebana class at RESOBOX \nView class page →
URL:https://resobox.com/event/virtual-ikebana-2026-05/
LOCATION:online
CATEGORIES:Ikebana Virtual
ATTACH;FMTTYPE=image/webp:https://resobox.com/wp-content/uploads/2026/04/header.png.webp
END:VEVENT
END:VCALENDAR