BEGIN:VCALENDAR
VERSION:2.0
PRODID:-//RESOBOX - ECPv6.15.20//NONSGML v1.0//EN
CALSCALE:GREGORIAN
METHOD:PUBLISH
X-WR-CALNAME:RESOBOX
X-ORIGINAL-URL:https://resobox.com
X-WR-CALDESC:Events for RESOBOX
REFRESH-INTERVAL;VALUE=DURATION:PT1H
X-Robots-Tag:noindex
X-PUBLISHED-TTL:PT1H
BEGIN:VTIMEZONE
TZID:UTC
BEGIN:STANDARD
TZOFFSETFROM:+0000
TZOFFSETTO:+0000
TZNAME:UTC
DTSTART:20250101T000000
END:STANDARD
END:VTIMEZONE
BEGIN:VEVENT
DTSTART;TZID=UTC:20260514T183000
DTEND;TZID=UTC:20260514T203000
DTSTAMP:20260424T185548
CREATED:20260406T065535Z
LAST-MODIFIED:20260418T155936Z
UID:6323-1778783400-1778790600@resobox.com
SUMMARY:Ikebana: Japanese Flower Arrangement - Ohara Style
DESCRIPTION:Flower fee and materials are included. \nIntroductory Course 6:30 pm – 8:30 pm\nAbove Beginner 6:00 pm – 8:00 pm \n**PLEASE NOTE: The class sign up deadline is 72 hours before the class begins. Cancellation after this period will NOT be refunded.** \n\n\nSingle Class \n$73 / person \nAll materials included \n\nReserve Your Spot \n\n\n\n4 Session Pass  \n$276 / person \nAll materials included \n\nReserve Your Spot \n\n  \n\nLearn more about Ikebana class at RESOBOX \nView class page \n 
URL:https://resobox.com/event/ikebana-japanese-flower-arrangement-ohara-style-2/
LOCATION:RESOBOX\, 91 E 3rd Street\, New York\, NY\, 10003\, United States
CATEGORIES:Ikebana
ATTACH;FMTTYPE=image/webp:https://resobox.com/wp-content/uploads/2026/03/Ikebana-Class-Header-Cropped.jpg.webp
END:VEVENT
END:VCALENDAR