BEGIN:VCALENDAR
VERSION:2.0
PRODID:-//RESOBOX - ECPv6.15.20//NONSGML v1.0//EN
CALSCALE:GREGORIAN
METHOD:PUBLISH
X-ORIGINAL-URL:https://resobox.com
X-WR-CALDESC:Events for RESOBOX
REFRESH-INTERVAL;VALUE=DURATION:PT1H
X-Robots-Tag:noindex
X-PUBLISHED-TTL:PT1H
BEGIN:VTIMEZONE
TZID:UTC
BEGIN:STANDARD
TZOFFSETFROM:+0000
TZOFFSETTO:+0000
TZNAME:UTC
DTSTART:20250101T000000
END:STANDARD
END:VTIMEZONE
BEGIN:VEVENT
DTSTART;TZID=UTC:20260503T110000
DTEND;TZID=UTC:20260503T120000
DTSTAMP:20260424T173837
CREATED:20260406T064554Z
LAST-MODIFIED:20260418T155845Z
UID:29378-1777806000-1777809600@resobox.com
SUMMARY:Mizuhiki Art Card Making for Mother’s Day - Cat
DESCRIPTION:Mizuhiki Art Card Making for Mother’s Day\nCome create something truly meaningful this Mother’s Day — the special Mizuhiki Card Workshop on May 3rd. \nMizuhiki is a traditional Japanese decorative cord that symbolizes connection\, gratitude\, and heartfelt wishes. In this workshop\, you’ll explore this meaningful craft while creating a piece featuring a paper frame that elevates your mizuhiki card into a small work of art — designed to be displayed on a table or hung on a wall. \nWe are offering two 1-hour sessions designed for different levels of experience and creative interest. \n11:00 AM session: Beginner-friendly\, this session focuses on a cute\, approachable Mother’s Day card design featuring two small cats. The motif can be seen as a parent and child\, or simply as two companions — adding a gentle\, heartwarming touch to your creation. It’s perfect for first-timers or anyone looking for a relaxed and enjoyable creative experience. No prior experience needed — just come and enjoy the process. \n12:30 PM session: For those who enjoy crafting or are looking for a slightly more detailed experience\, this session features a carnation motif incorporating a slightly more intricate mizuhiki knot. It’s ideal for returning participants\, craft enthusiasts\, or anyone who would like to explore a bit more depth in technique and design. \nYou’re also very welcome to join both sessions and complete the full experience — creating two different designs that complement each other beautifully. \n \nThis workshop is warmly open to everyone: individual participants\, couples seeking a shared creative experience\, parents and teens\, and anyone who simply enjoys hands-on making for a meaningful creative moment. \nSpots are limited — we look forward to seeing you there! \nPLEASE NOTE: The class sign up deadline is 72 hours before the class begins. Cancellation after this period will NOT be refunded. \n\n\n$40 / person \nAll materials included \n\nReserve Your Spot \n\n  \n\nLearn more about Mizuhiki class at RESOBOX \nView class page → \n 
URL:https://resobox.com/event/mizuhiki-art-card-making-for-mothers-day-cat/
LOCATION:RESOBOX\, 91 E 3rd Street\, New York\, NY\, 10003\, United States
CATEGORIES:Mizuhiki
ATTACH;FMTTYPE=image/jpeg:https://resobox.com/wp-content/uploads/2026/04/Mizuhiki-mothers-day-cat.jpg
END:VEVENT
BEGIN:VEVENT
DTSTART;TZID=UTC:20260503T123000
DTEND;TZID=UTC:20260503T133000
DTSTAMP:20260424T173837
CREATED:20260406T065125Z
LAST-MODIFIED:20260418T155906Z
UID:29382-1777811400-1777815000@resobox.com
SUMMARY:Mizuhiki Art Card Making for Mother’s Day - Carnation
DESCRIPTION:Mizuhiki Art Card Making for Mother’s Day\nCome create something truly meaningful this Mother’s Day — the special Mizuhiki Card Workshop on May 3rd. \nMizuhiki is a traditional Japanese decorative cord that symbolizes connection\, gratitude\, and heartfelt wishes. In this workshop\, you’ll explore this meaningful craft while creating a piece featuring a paper frame that elevates your mizuhiki card into a small work of art — designed to be displayed on a table or hung on a wall. \nWe are offering two 1-hour sessions designed for different levels of experience and creative interest. \n11:00 AM session: Beginner-friendly\, this session focuses on a cute\, approachable Mother’s Day card design featuring two small cats. The motif can be seen as a parent and child\, or simply as two companions — adding a gentle\, heartwarming touch to your creation. It’s perfect for first-timers or anyone looking for a relaxed and enjoyable creative experience. No prior experience needed — just come and enjoy the process. \n12:30 PM session: For those who enjoy crafting or are looking for a slightly more detailed experience\, this session features a carnation motif incorporating a slightly more intricate mizuhiki knot. It’s ideal for returning participants\, craft enthusiasts\, or anyone who would like to explore a bit more depth in technique and design. \nYou’re also very welcome to join both sessions and complete the full experience — creating two different designs that complement each other beautifully. \n \nThis workshop is warmly open to everyone: individual participants\, couples seeking a shared creative experience\, parents and teens\, and anyone who simply enjoys hands-on making for a meaningful creative moment. \nSpots are limited — we look forward to seeing you there! \nPLEASE NOTE: The class sign up deadline is 72 hours before the class begins. Cancellation after this period will NOT be refunded. \n\n\n$40 / person \nAll materials included \n\nReserve Your Spot \n\n  \n\nLearn more about Mizuhiki class at RESOBOX \nView class page → \n 
URL:https://resobox.com/event/mizuhiki-art-card-making-for-mothers-day-carnation/
LOCATION:RESOBOX\, 91 E 3rd Street\, New York\, NY\, 10003\, United States
CATEGORIES:Mizuhiki
ATTACH;FMTTYPE=image/jpeg:https://resobox.com/wp-content/uploads/2026/04/Mizuhiki-mothers-day-carnation-.jpg
END:VEVENT
END:VCALENDAR