BEGIN:VCALENDAR
VERSION:2.0
PRODID:-//RESOBOX - ECPv6.15.20//NONSGML v1.0//EN
CALSCALE:GREGORIAN
METHOD:PUBLISH
X-WR-CALNAME:RESOBOX
X-ORIGINAL-URL:https://resobox.com
X-WR-CALDESC:Events for RESOBOX
REFRESH-INTERVAL;VALUE=DURATION:PT1H
X-Robots-Tag:noindex
X-PUBLISHED-TTL:PT1H
BEGIN:VTIMEZONE
TZID:UTC
BEGIN:STANDARD
TZOFFSETFROM:+0000
TZOFFSETTO:+0000
TZNAME:UTC
DTSTART:20250101T000000
END:STANDARD
END:VTIMEZONE
BEGIN:VEVENT
DTSTART;TZID=UTC:20260607T140000
DTEND;TZID=UTC:20260607T160000
DTSTAMP:20260424T201835
CREATED:20260408T232250Z
LAST-MODIFIED:20260422T004436Z
UID:29423-1780840800-1780848000@resobox.com
SUMMARY:Nerikiri Wagashi: Japanese Sculpted Confectionery - Rose\, Hydrangea\, and Temari
DESCRIPTION:The instructor: Yuki Sakura \nIn this session\, we will create three types of Nerikiri: a rose\, a hydrangea\, and a temari (Japanese hand ball) inspired by the gentle early-summer breeze. As we imagine the flowers that bloom in June and petals softly dancing in the wind\, I hope we can enjoy the subtle shift into early summer together. \nThis workshop offers more than the joy of tasting Wagashi — it gives you the experience of creating edible art with your own hands. Simple hand movements such as pressing\, pinching\, and layering transform into moments of artistic expression. Through this hands-on experience\, you will discover the unique beauty of Japanese food culture. \nAt the end of the class\, you’ll take home the Nerikiris you lovingly crafted yourself. I hope you’ll share them with your family and friends\, revisiting the stories and moments from the workshop as you admire and enjoy the sweets you created with your own hands. \n  \nPLEASE NOTE: The class sign up deadline is 72 hours before the class begins. Cancellation after this period will NOT be refunded. \n\n\n$80 / person \nAll materials included \n\nReserve Your Spot \n\n  \n\nLearn more about Wagshi class at RESOBOX \nView class page → \n 
URL:https://resobox.com/event/nerikiri-wagashi-japanese-sculpted-confectionery-cherry-blossom-rose-hydrangea-and-temari/
LOCATION:RESOBOX\, 91 E 3rd Street\, New York\, NY\, 10003\, United States
CATEGORIES:Nerikiri Wagashi
ATTACH;FMTTYPE=image/jpeg:https://resobox.com/wp-content/uploads/2026/04/wagashi-class-rose-a-hydrangea-and-a-temari.jpeg
END:VEVENT
END:VCALENDAR