BEGIN:VCALENDAR
VERSION:2.0
PRODID:-//RESOBOX - ECPv6.15.20//NONSGML v1.0//EN
CALSCALE:GREGORIAN
METHOD:PUBLISH
X-WR-CALNAME:RESOBOX
X-ORIGINAL-URL:https://resobox.com
X-WR-CALDESC:Events for RESOBOX
REFRESH-INTERVAL;VALUE=DURATION:PT1H
X-Robots-Tag:noindex
X-PUBLISHED-TTL:PT1H
BEGIN:VTIMEZONE
TZID:UTC
BEGIN:STANDARD
TZOFFSETFROM:+0000
TZOFFSETTO:+0000
TZNAME:UTC
DTSTART:20250101T000000
END:STANDARD
END:VTIMEZONE
BEGIN:VEVENT
DTSTART;TZID=UTC:20260418T123000
DTEND;TZID=UTC:20260418T133000
DTSTAMP:20260424T162437
CREATED:20260401T145002Z
LAST-MODIFIED:20260418T153821Z
UID:5656-1776515400-1776519000@resobox.com
SUMMARY:Suminagashi: Japanese Marbling Art
DESCRIPTION:In this Suminagashi class\, you will learn how to gently drop ink onto the surface of water and guide the ripples with your breath\, brushes\, or even the subtlest movements of air. The resulting designs are then transferred onto washi paper and even onto fabric items such as handkerchiefs\, creating one-of-a-kind works of art. \nPLEASE NOTE: The class sign up deadline is 72 hours before the class begins. Cancellation after this period will NOT be refunded. \n\n\n$50 / person \nAll materials included \n\nReserve Your Spot \n\n  \n\nLearn more about Suminagashi class at RESOBOX \nView class page → \n 
URL:https://resobox.com/event/suminagashi-2026-0418/
LOCATION:RESOBOX\, 91 E 3rd Street\, New York\, NY\, 10003\, United States
CATEGORIES:Suminagashi
ATTACH;FMTTYPE=image/jpeg:https://resobox.com/wp-content/uploads/2026/04/IMG_6298-copy.jpeg
END:VEVENT
BEGIN:VEVENT
DTSTART;TZID=UTC:20260418T110000
DTEND;TZID=UTC:20260418T120000
DTSTAMP:20260424T162437
CREATED:20260401T144912Z
LAST-MODIFIED:20260418T153702Z
UID:5095-1776510000-1776513600@resobox.com
SUMMARY:Suminagashi: Japanese Marbling Art
DESCRIPTION:In this Suminagashi class\, you will learn how to gently drop ink onto the surface of water and guide the ripples with your breath\, brushes\, or even the subtlest movements of air. The resulting designs are then transferred onto washi paper and even onto fabric items such as handkerchiefs\, creating one-of-a-kind works of art. \nPLEASE NOTE: The class sign up deadline is 72 hours before the class begins. Cancellation after this period will NOT be refunded. \n\n\n$50 / person \nAll materials included \n\nReserve Your Spot \n\n  \n\nLearn more about Suminagashi class at RESOBOX \nView class page → \n 
URL:https://resobox.com/event/suminagashi-2026-04/
LOCATION:RESOBOX\, 91 E 3rd Street\, New York\, NY\, 10003\, United States
CATEGORIES:Suminagashi
ATTACH;FMTTYPE=image/jpeg:https://resobox.com/wp-content/uploads/2026/04/IMG_6298-copy.jpeg
END:VEVENT
END:VCALENDAR