BEGIN:VCALENDAR
VERSION:2.0
PRODID:-//RESOBOX - ECPv6.15.20//NONSGML v1.0//EN
CALSCALE:GREGORIAN
METHOD:PUBLISH
X-WR-CALNAME:RESOBOX
X-ORIGINAL-URL:https://resobox.com
X-WR-CALDESC:Events for RESOBOX
REFRESH-INTERVAL;VALUE=DURATION:PT1H
X-Robots-Tag:noindex
X-PUBLISHED-TTL:PT1H
BEGIN:VTIMEZONE
TZID:UTC
BEGIN:STANDARD
TZOFFSETFROM:+0000
TZOFFSETTO:+0000
TZNAME:UTC
DTSTART:20250101T000000
END:STANDARD
END:VTIMEZONE
BEGIN:VTIMEZONE
TZID:America/New_York
BEGIN:DAYLIGHT
TZOFFSETFROM:-0500
TZOFFSETTO:-0400
TZNAME:EDT
DTSTART:20250309T070000
END:DAYLIGHT
BEGIN:STANDARD
TZOFFSETFROM:-0400
TZOFFSETTO:-0500
TZNAME:EST
DTSTART:20251102T060000
END:STANDARD
BEGIN:DAYLIGHT
TZOFFSETFROM:-0500
TZOFFSETTO:-0400
TZNAME:EDT
DTSTART:20260308T070000
END:DAYLIGHT
BEGIN:STANDARD
TZOFFSETFROM:-0400
TZOFFSETTO:-0500
TZNAME:EST
DTSTART:20261101T060000
END:STANDARD
BEGIN:DAYLIGHT
TZOFFSETFROM:-0500
TZOFFSETTO:-0400
TZNAME:EDT
DTSTART:20270314T070000
END:DAYLIGHT
BEGIN:STANDARD
TZOFFSETFROM:-0400
TZOFFSETTO:-0500
TZNAME:EST
DTSTART:20271107T060000
END:STANDARD
END:VTIMEZONE
BEGIN:VEVENT
DTSTART;TZID=UTC:20260416T180000
DTEND;TZID=UTC:20260416T203000
DTSTAMP:20260424T174721
CREATED:20260401T144617Z
LAST-MODIFIED:20260406T063717Z
UID:5093-1776362400-1776371400@resobox.com
SUMMARY:Ikebana: Japanese Flower Arrangement - Ohara Style
DESCRIPTION:Flower fee and materials are included. \nIntroductory Course 6:30 pm – 8:30 pm\nAbove Beginner 6:00 pm – 8:00 pm \n  \nPLEASE NOTE: The class sign up deadline is 72 hours before the class begins. Cancellation after this period will NOT be refunded. \n\n\nSingle Class \n$73 / person \nAll materials included \n\nReserve Your Spot \n\n\n\n4 Session Pass  \n$276 / person \nAll materials included \n\nReserve Your Spot \n\n  \n\nLearn more about Ikebana class at RESOBOX \nView class page \n 
URL:https://resobox.com/event/ikebana-ohara/
LOCATION:RESOBOX\, 91 E 3rd Street\, New York\, NY\, 10003\, United States
CATEGORIES:Ikebana
ATTACH;FMTTYPE=image/webp:https://resobox.com/wp-content/uploads/2026/03/Ikebana-Class-Header-Cropped.jpg.webp
END:VEVENT
BEGIN:VEVENT
DTSTART;TZID=UTC:20260415T190000
DTEND;TZID=UTC:20260415T220000
DTSTAMP:20260424T174721
CREATED:20260331T144535Z
LAST-MODIFIED:20260406T050715Z
UID:6276-1776279600-1776290400@resobox.com
SUMMARY:Gunpla: Gundam Model Kit Building
DESCRIPTION:The Project Nutype build night team is excited to bring our love of plamo to NYC each month at RESOBOX with our Build nights. Come to learn\, come to build or come to meet new people who share a similar interest. No matter why you come to Project NuType build night there will be something for you. \nJoin the fun of building with the Project NuType team team lead by Tim Martin-Toussaint (@nutypetim formally @gundamnyc). Project NuTypes consists of experienced and extremely enthusiastic builders from all across the galaxy! Introducing our host\, Joseph (JD) Availa– experienced builder who takes his understanding of architecture and brings it to his passion for building. Eddie Cruz– rookie builder and fellow host\, who is always interested to learn more about the model kit hobby. Phiorella– a huge anime fan and also a new entry in the world of model kit building. Carlo Cabigao– creative director\, veteran builder and avid fan of the Gundam series. And last but not least\, the extremely talented camera man Albert Torillo– who is also a rookie builder but eager to learn. Stop by and roll-up your sleeves for a fun night of building model kits and building relationships! \nPLEASE NOTE: The class sign up deadline is 72 hours before the class begins. Cancellation after this period will NOT be refunded. \n\n\n$15 / person \nAll materials included \n\nReserve Your Spot \n\n  \n\nLearn more about Gunpla: Gundam Model Kit Building Build Night at RESOBOX \nView class page \n 
URL:https://resobox.com/event/gunpla-gundam-model-kit-building/
LOCATION:RESOBOX\, 91 E 3rd Street\, New York\, NY\, 10003\, United States
CATEGORIES:Gunpla
ATTACH;FMTTYPE=image/webp:https://resobox.com/wp-content/uploads/2026/04/image.webp
END:VEVENT
BEGIN:VEVENT
DTSTART;TZID=America/New_York:20260414T190000
DTEND;TZID=America/New_York:20260414T203000
DTSTAMP:20260424T174721
CREATED:20260331T144405Z
LAST-MODIFIED:20260411T080820Z
UID:29321-1776193200-1776198600@resobox.com
SUMMARY:Exclusive in NYC: An Evening with Philippe Troussier – Football\, World Cup Insights & Wine Tasting
DESCRIPTION:Join us for a once-in-a-lifetime evening with the legendary football manager\, Philippe Troussier.\nKnown as the “White Witch Doctor” for his tactical brilliance\, Troussier famously led the Japan National Team to their first-ever World Cup knockout stage in 2002. With a career spanning continents—from Africa\, where he managed teams like Ivory Coast and Morocco\, to Asia with Japan and Qatar\, and Europe where he also took charge of France and several club teams—he has managed numerous national and top-tier clubs around the world. \nThis intimate event is limited to just 20–30 guests\, offering a rare opportunity to engage with a world-class leader in a cozy\, up-close setting. \n【Highlights】 \nPart 1: Tactical Talk & World Cup Predictions (60 min) Philippe will dive deep into his candid predictions for the upcoming World Cup. He will also share “behind-the-scenes” stories from his tenure as a national team manager and his philosophy on leading elite athletes on the world stage. \nPart 2: Wine Tasting & Networking (30 min) Beyond the pitch\, Philippe is a passionate winemaker in Bordeaux\, France. We will be featuring a selection of his own wines for a special tasting session. Whether you are a football enthusiast or a wine professional interested in unique imports\, this is the perfect time to mingle. \n\n\n$20 / person \nAll materials included \n\nReserve Your Spot \n\n 
URL:https://resobox.com/event/exclusive-in-nyc-an-evening-with-philippe-troussier-football-world-cup-insights-wine-tasting/
LOCATION:RESOBOX\, 91 E 3rd Street\, New York\, NY\, 10003\, United States
CATEGORIES:Upcoming event
ATTACH;FMTTYPE=image/jpeg:https://resobox.com/wp-content/uploads/2026/04/Philippe-Troussier.jpg
END:VEVENT
BEGIN:VEVENT
DTSTART;TZID=UTC:20260413T190000
DTEND;TZID=UTC:20260413T213000
DTSTAMP:20260424T174721
CREATED:20260331T144400Z
LAST-MODIFIED:20260408T050634Z
UID:5088-1776106800-1776115800@resobox.com
SUMMARY:Mizuhiki: Japanese Decorative Knots - Sakura Frame
DESCRIPTION:Celebrate spring by creating your own mizuhiki sakura frame art inspired by the beautiful cherry\nblossoms of Japan! \nIn this hands-on workshop\, you will learn how to shape mizuhiki into delicate three-dimensional cherry blossoms. Your finished design will be placed in a 4 × 6 inch shadow box frame\, creating a unique piece of art that you can proudly display in your home or give as a thoughtful spring gift. \nNo experience is necessary\nAll materials are included\nTake home your finished artwork \nThis workshop is open to everyone. Come relax\, enjoy a creative moment\, and bring a little piece of Japanese art into your home. \nSpace is limited\, so early registration is recommended. \nPLEASE NOTE: The class sign up deadline is 72 hours before the class begins. Cancellation after this period will NOT be refunded. \n\n\n$60 / person \nAll materials included \n\nReserve Your Spot \n\n  \n\nLearn more about Mizuhiki class at RESOBOX \nView class page → \n 
URL:https://resobox.com/event/mizuhiki-japanese-decorative-knots/
LOCATION:RESOBOX\, 91 E 3rd Street\, New York\, NY\, 10003\, United States
CATEGORIES:Mizuhiki
ATTACH;FMTTYPE=image/jpeg:https://resobox.com/wp-content/uploads/2026/03/sakura-frame-art.jpg
END:VEVENT
BEGIN:VEVENT
DTSTART;TZID=UTC:20260412T100000
DTEND;TZID=UTC:20260412T123000
DTSTAMP:20260424T174721
CREATED:20260330T144522Z
LAST-MODIFIED:20260418T151254Z
UID:5091-1775988000-1775997000@resobox.com
SUMMARY:Kimekomi: Japanese Traditional Doll-Making - Sparrow
DESCRIPTION:For the April 12th class\, students can make a charming Sparrow. \nNo experience is necessary\nTake home your finished artwork \nThis workshop is open to everyone. Come relax\, enjoy a creative moment\, and bring a little piece of Japanese art into your home. \nSpace is limited\, so early registration is recommended. \nPLEASE NOTE: The class sign up deadline is 72 hours before the class begins. Cancellation after this period will NOT be refunded. \n\n\n$70 / person \nAll materials included \n\nReserve Your Spot \n\n  \n\nLearn more about Kimekomi Doll-Making class at RESOBOX \nView class page \n 
URL:https://resobox.com/event/kimekomi-doll-making-sparrow/
LOCATION:RESOBOX\, 91 E 3rd Street\, New York\, NY\, 10003\, United States
CATEGORIES:Kimekomi
ATTACH;FMTTYPE=image/webp:https://resobox.com/wp-content/uploads/2026/03/Sparrow.jpg.webp
END:VEVENT
BEGIN:VEVENT
DTSTART;TZID=UTC:20260405T110000
DTEND;TZID=UTC:20260405T130000
DTSTAMP:20260424T174721
CREATED:20260329T225112Z
LAST-MODIFIED:20260417T231647Z
UID:5658-1775386800-1775394000@resobox.com
SUMMARY:Nerikiri Wagashi: Japanese Sculpted Confectionery - Cherry blossom (Sakura)
DESCRIPTION:The instructor: Yuki Sakura \nIn this session\, you will create Three different cherry blossom (桜) designs—an iconic symbol of spring in Japan. Through shaping petals\, layering colors\, and capturing the softness of the season\, you will bring springtime to life with your own hands. \nAt the end of the class\, you’ll take home the Nerikiri you lovingly crafted yourself. I hope you’ll share them with your family and friends—revisiting the stories and moments from the workshop as you admire and enjoy the sweets you created with your own hands. \n  \nPLEASE NOTE: The class sign up deadline is 72 hours before the class begins. Cancellation after this period will NOT be refunded. \n\n\n$80 / person \nAll materials included \n\nReserve Your Spot \n\n  \n\nLearn more about Wagshi class at RESOBOX \nView class page → \n 
URL:https://resobox.com/event/sweets-for-every-season-nerikiri-wagashi-cherry-blossom-sakura/
LOCATION:RESOBOX\, 91 E 3rd Street\, New York\, NY\, 10003\, United States
CATEGORIES:Nerikiri Wagashi
ATTACH;FMTTYPE=image/jpeg:https://resobox.com/wp-content/uploads/2026/04/IMG_6908-copy.jpg
END:VEVENT
END:VCALENDAR