BEGIN:VCALENDAR
VERSION:2.0
PRODID:-//RESOBOX - ECPv6.15.20//NONSGML v1.0//EN
CALSCALE:GREGORIAN
METHOD:PUBLISH
X-ORIGINAL-URL:https://resobox.com
X-WR-CALDESC:Events for RESOBOX
REFRESH-INTERVAL;VALUE=DURATION:PT1H
X-Robots-Tag:noindex
X-PUBLISHED-TTL:PT1H
BEGIN:VTIMEZONE
TZID:UTC
BEGIN:STANDARD
TZOFFSETFROM:+0000
TZOFFSETTO:+0000
TZNAME:UTC
DTSTART:20250101T000000
END:STANDARD
END:VTIMEZONE
BEGIN:VEVENT
DTSTART;TZID=UTC:20261021T190000
DTEND;TZID=UTC:20261021T220000
DTSTAMP:20260424T231039
CREATED:20260406T065753Z
LAST-MODIFIED:20260406T065814Z
UID:6355-1792609200-1792620000@resobox.com
SUMMARY:Gunpla: Gundam Model Kit Building
DESCRIPTION:The Project Nutype build night team is excited to bring our love of plamo to NYC each month at RESOBOX with our Build nights. Come to learn\, come to build or come to meet new people who share a similar interest. No matter why you come to Project NuType build night there will be something for you. \nJoin the fun of building with the Project NuType team team lead by Tim Martin-Toussaint (@nutypetim formally @gundamnyc). Project NuTypes consists of experienced and extremely enthusiastic builders from all across the galaxy! Introducing our host\, Joseph (JD) Availa– experienced builder who takes his understanding of architecture and brings it to his passion for building. Eddie Cruz– rookie builder and fellow host\, who is always interested to learn more about the model kit hobby. Phiorella– a huge anime fan and also a new entry in the world of model kit building. Carlo Cabigao– creative director\, veteran builder and avid fan of the Gundam series. And last but not least\, the extremely talented camera man Albert Torillo– who is also a rookie builder but eager to learn. Stop by and roll-up your sleeves for a fun night of building model kits and building relationships! \nPLEASE NOTE: The class sign up deadline is 72 hours before the class begins. Cancellation after this period will NOT be refunded. \n\n\n$15 / person \nAll materials included \n\nReserve Your Spot \n\n  \n\nLearn more about Gunpla: Gundam Model Kit Building Build Night at RESOBOX \nView class page \n 
URL:https://resobox.com/event/gunpla-gundam-model-kit-building-4/
LOCATION:RESOBOX\, 91 E 3rd Street\, New York\, NY\, 10003\, United States
CATEGORIES:Gunpla
ATTACH;FMTTYPE=image/webp:https://resobox.com/wp-content/uploads/2026/04/image.webp
END:VEVENT
BEGIN:VEVENT
DTSTART;TZID=UTC:20261206T120000
DTEND;TZID=UTC:20261206T130000
DTSTAMP:20260424T231039
CREATED:20260408T232409Z
LAST-MODIFIED:20260418T153047Z
UID:29212-1796558400-1796562000@resobox.com
SUMMARY:Virtual Ikebana class - Misho Style
DESCRIPTION:A few things you will need before the class: \n1. You will need to find your own flowers. We are sorry that we are unable to deliver flowers to your home (try calling around; some local shops will deliver). But any flowers are OK! Just make sure to get 2-3 varieties\, and choose what you like. We don’t need a lot. \n2. You will need clippers or scissors that you don’t mind using to cut flower stems. \n3. A vase. If you don’t have a vase\, you can use a glass\, a coffee cup\, a cereal bowl\, or your choice of container\, as long as it has a little depth. You might even surprise yourself with how nice a non-traditional vase can look with a cute arrangement of flowers. \n*If you have your own Kenzan\, Flower Pin\, or Pin Frog\, you can use it. And if you want to buy one\, you can order on Amazon online. \nIn this class\, we will check each student’s tools and flowers\, then help you with tips on how to build up and create your own Ikebana arrangement. \n**Classes will be held via the Zoom Video Conferencing application\, a private Zoom link will be sent to participants before the class begins. The classes will be held in Eastern Time. \n  \nPLEASE NOTE: The class sign up deadline is 72 hours before the class begins. Cancellation after this period will NOT be refunded. \n\n\n$30 / person \nAll materials included \n\nReserve Your Spot \n\n  \n\nLearn more about Virtual Ikebana class at RESOBOX \nView class page →
URL:https://resobox.com/event/virtual-ikebana-2026-12/
LOCATION:online
CATEGORIES:Ikebana Virtual
ATTACH;FMTTYPE=image/webp:https://resobox.com/wp-content/uploads/2026/04/header.png.webp
END:VEVENT
END:VCALENDAR